BEGIN:VCALENDAR
VERSION:2.0
PRODID:-//seenema-bw.de//NONSGML kigkonsult.se iCalcreator 2.41.92//
CALSCALE:GREGORIAN
METHOD:PUBLISH
UID:63373239-3336-4930-b532-616135666636
X-WR-CALNAME:iCagenda
X-WR-CALDESC:Event Management Extension for Joomla!
X-WR-RELCALID:3E26604A-50F4-4449-8B3E-E4F4932D05B5
X-WR-TIMEZONE:Europe/Berlin
BEGIN:VTIMEZONE
TZID:Europe/Berlin
TZUNTIL:20271031T010000Z
BEGIN:STANDARD
TZNAME:CET
DTSTART:20251026T030000
TZOFFSETFROM:+0200
TZOFFSETTO:+0100
RDATE:20261025T030000
END:STANDARD
BEGIN:DAYLIGHT
TZNAME:CEST
DTSTART:20260329T020000
TZOFFSETFROM:+0100
TZOFFSETTO:+0200
RDATE:20270328T020000
END:DAYLIGHT
END:VTIMEZONE
BEGIN:VEVENT
UID:30303833-6236-4537-a436-346537373435
DTSTAMP:20260420T081220Z
CATEGORIES:Opernabend
CLASS:PUBLIC
DESCRIPTION;ALTREP="CID:<FFFF__=0ABBE548DFE235B58f9e8a93d@coffeebean.com>":
 Lucrezia Borgia\nMelodramma in einem Prolog und zwei Akten von Gaetano Don
 izetti. \nMythos oder Menschlichkeit: War Lucrezia Borgia wirklich eine Fe
 mme fatale – oder doch eine tragische Mutterfigur? In seiner dramatischen 
 Belcanto-Oper zeichnet Donizetti das psychologisch nuancierte Porträt eine
 r Frau zwischen Macht\, Schuld und Sehnsucht.\nGiftmischerin\, Mörderin\, 
 Intrigantin und Lügnerin\, Tochter und Konkubine des Papstes\, Geliebte ih
 res Bruders. Lucrezia verdankt diese Zuschreibungen ihrem Nachnamen\, denn
  die Borgias waren eine der einflussreichsten und meistgehassten Familien 
 der Renaissance. Bleibt da überhaupt Platz für die Vermutung\, dass Lucrez
 ia Borgia in Wirklichkeit eine zutiefst unglückliche Frau und eine leidens
 chaftlich liebende Mutter gewesen sein könnte?\nRegisseurin Rahel Thiel er
 zählt in ihrer Mannheimer Inszenierung die Geschichte einer Alleingängerin
  in einer Männerwelt.\nDie neue Kooperation des seenema mit dem Nationalth
 eater Mannheim holt die Oper in den Kinosaal. Erleben Sie Donizettis Meist
 erwerk in seiner ganzen Wucht – aufgezeichnet live auf der Bühne.\n \n \n 
DTSTART:20260419T170000Z
DTEND:20260419T170000Z
GEO:00;0
LOCATION:Eine Aufzeichnung des Nationaltheaters Mannheim.
ORGANIZER:
SEQUENCE:1
SUMMARY:Opernabend im Kino
TRANSP:OPAQUE
URL:https://www.seenema-bw.de/index.php/sonderveranstaltungen/100-lucrezia-
 borgia/2026-04-19-19-00
END:VEVENT
END:VCALENDAR
