BEGIN:VCALENDAR
VERSION:2.0
PRODID:-//seenema-bw.de//NONSGML kigkonsult.se iCalcreator 2.41.92//
CALSCALE:GREGORIAN
METHOD:PUBLISH
UID:37646436-6530-4532-b761-616534656431
X-WR-CALNAME:iCagenda
X-WR-CALDESC:Event Management Extension for Joomla!
X-WR-RELCALID:3E26604A-50F4-4449-8B3E-E4F4932D05B5
X-WR-TIMEZONE:Europe/Berlin
BEGIN:VTIMEZONE
TZID:Europe/Berlin
TZUNTIL:20271031T010000Z
BEGIN:STANDARD
TZNAME:CET
DTSTART:20251026T030000
TZOFFSETFROM:+0200
TZOFFSETTO:+0100
RDATE:20261025T030000
END:STANDARD
BEGIN:DAYLIGHT
TZNAME:CEST
DTSTART:20250330T020000
TZOFFSETFROM:+0100
TZOFFSETTO:+0200
RDATE:20260329T020000
RDATE:20270328T020000
END:DAYLIGHT
END:VTIMEZONE
BEGIN:VEVENT
UID:31393634-3963-4231-b631-393039363433
DTSTAMP:20260423T094317Z
CATEGORIES:Kabarett
CLASS:PUBLIC
DESCRIPTION;ALTREP="CID:<FFFF__=0ABBE548DFE235B58f9e8a93d@coffeebean.com>":
 Poetisch\, aktuell und politisch: In dieser rund 40-minütigen Performance 
 verbindet Bernhard Stengele klassische Lyrik mit den zentralen Herausforde
 rungen unserer Zeit – mit Ernst\, Humor und sprachlicher Kraft. Im Fokus s
 tehen Themen\, die Baden-Württemberg und ganz Deutschland bewegen: Klimakr
 ise\, Artenschutz\, Energiewende\, Wirtschaft und soziale Gerechtigkeit\, 
 Weltoffenheit. Das Programm lädt zum Nachdenken ein\, stellt gewohnte Denk
 muster infrage und rückt gesellschaftliche Verantwortung in den Mittelpunk
 t.Im Anschluss an die Performance gibt es Raum für eine offene Diskussion 
 mit der Leitfrage:Wie wollen wir gemeinsam Zukunft gestalten?\nÜber Bernha
 rd StengeleBernhard Stengele\, geboren und aufgewachsen in Kißlegg im Allg
 äu\, war Landesvorsitzender von Bündnis 90/Die Grünen Thüringen\, Umwelt- 
 und Energieminister sowie stellvertretender Ministerpräsident.Zuvor arbeit
 ete er über drei Jahrzehnte als Regisseur\, Schauspieldirektor und Initiat
 or internationaler Theaterprojekte – unter anderem in Westafrika\, Israel 
 und der Türkei. Seine Erfahrungen in Ost- und Westdeutschland prägen bis h
 eute seinen politischen und künstlerischen Ansatz.Aktuell bereitet er für 
 den Katholikentag eine große Produktion zum Thema Transformation mit Haral
 d Lesch vor und entwickelt gemeinsam mit arabischen und jüdischen Künstler
 *innen aus Israel und Deutschland eine mehrtägige Performance.Sein Engagem
 ent verbindet politische Verantwortung mit einer tiefen Leidenschaft für S
 prache\, Kultur und die Gestaltung einer offenen\, nachhaltigen Zukunft.\n
 Veranstalter: Die Grünen\nEintritt frei.
DTSTART:20260304T190000Z
DTEND:20260304T190000Z
GEO:00;0
LOCATION:
ORGANIZER:
SEQUENCE:1
SUMMARY:Hoimad und Horizonte
TRANSP:OPAQUE
URL:https://www.seenema-bw.de/index.php/programm/88-hoimad-und-horizonte/20
 26-03-04-20-00?layout=vcal
END:VEVENT
END:VCALENDAR
