BEGIN:VCALENDAR
VERSION:2.0
PRODID:-//seenema-bw.de//NONSGML kigkonsult.se iCalcreator 2.41.92//
CALSCALE:GREGORIAN
METHOD:PUBLISH
UID:66303966-3039-4430-b839-343061613430
X-WR-CALNAME:iCagenda
X-WR-CALDESC:Event Management Extension for Joomla!
X-WR-RELCALID:3E26604A-50F4-4449-8B3E-E4F4932D05B5
X-WR-TIMEZONE:Europe/Berlin
BEGIN:VTIMEZONE
TZID:Europe/Berlin
TZUNTIL:20210328T010000Z
BEGIN:STANDARD
TZNAME:CET
DTSTART:20181028T030000
TZOFFSETFROM:+0200
TZOFFSETTO:+0100
RDATE:20191027T030000
RDATE:20201025T030000
END:STANDARD
BEGIN:DAYLIGHT
TZNAME:CEST
DTSTART:20190331T020000
TZOFFSETFROM:+0100
TZOFFSETTO:+0200
RDATE:20200329T020000
END:DAYLIGHT
END:VTIMEZONE
BEGIN:VEVENT
UID:63613333-3737-4466-b038-353963376536
DTSTAMP:20260425T184411Z
CATEGORIES:Ausstellung
CLASS:PUBLIC
DESCRIPTION;ALTREP="CID:<FFFF__=0ABBE548DFE235B58f9e8a93d@coffeebean.com>":
 Malerei – Grafik – Fotografie\nDas vielseitige künstlerische Werk von Wolf
 gang Franz\, geboren in Kreßbronn am Bodensee\, umfasst die Bereiche Maler
 ei\, Grafik\, Fotografie. Nach dem Studium der Germanistik und Kunsterzieh
 ung an der Uni und an der Kunstakademie Stuttgart\, beschäftigte er sich e
 benso mit Mundarterhebung und Forschung im Westallgäu. Heute lebt er als f
 reischaffender Künstler in Lindau und ist ehrenamtlich tätig als Kunst- un
 d Kulturpädagoge im Jugendkulturverein. Seine Malerei – vornehmlich Acrylm
 alerei - lässt sich umschreiben als episch-abstrakten Realismus\, wobei er
  sich ideell seinem damaligen Professor Hrdlicka nahe fühlt: Kunst als kre
 ative Verpflichtung!\nDie Vernissage findet statt am 30. Juni 2019 um 11 U
 hr im Stadtkino Seenema Bad Waldsee\, Biberacher Straße 29 und wird musika
 lisch umrahmt von Viz-Michael Kremitz mit einer Klangperformance im Duett 
 mit Malerei von Wolfgang Franz.\nEugen Detzel führt in die Ausstellung ein
 .\nDie Ausstellung dauert bis 22. September und ist geöffnet während der K
 inozeiten. 
DTSTART:20190629T220000Z
DTEND:20190921T220000Z
GEO:00;0
LOCATION:Werke von Wolfgang Franz
ORGANIZER:
SEQUENCE:1
SUMMARY:Kunst als kreative Verpflichtung
TRANSP:OPAQUE
URL:https://www.seenema-bw.de/index.php/ausstellungen/60-kunst-als-kreative
 -verpflichtung?layout=vcal
END:VEVENT
END:VCALENDAR
