BEGIN:VCALENDAR
VERSION:2.0
PRODID:-//seenema-bw.de//NONSGML kigkonsult.se iCalcreator 2.41.92//
CALSCALE:GREGORIAN
METHOD:PUBLISH
UID:39386534-3838-4634-b139-353364633034
X-WR-CALNAME:iCagenda
X-WR-CALDESC:Event Management Extension for Joomla!
X-WR-RELCALID:3E26604A-50F4-4449-8B3E-E4F4932D05B5
X-WR-TIMEZONE:Europe/Berlin
BEGIN:VTIMEZONE
TZID:Europe/Berlin
TZUNTIL:20211031T010000Z
BEGIN:STANDARD
TZNAME:CET
DTSTART:20191027T030000
TZOFFSETFROM:+0200
TZOFFSETTO:+0100
RDATE:20201025T030000
END:STANDARD
BEGIN:DAYLIGHT
TZNAME:CEST
DTSTART:20190331T020000
TZOFFSETFROM:+0100
TZOFFSETTO:+0200
RDATE:20200329T020000
RDATE:20210328T020000
END:DAYLIGHT
END:VTIMEZONE
BEGIN:VEVENT
UID:39386230-6130-4036-b661-366236363264
DTSTAMP:20260425T184431Z
CATEGORIES:Ausstellung
CLASS:PUBLIC
DESCRIPTION:
DTSTART:20191130T230000Z
DTEND:20200111T230000Z
GEO:00;0
LOCATION:Werke von Margit Hofmiller\, Maria Jank und Eva Maria Lohr
ORGANIZER:
SEQUENCE:1
SUMMARY:Spielraum gibt Spiel Raum
TRANSP:OPAQUE
URL:https://www.seenema-bw.de/index.php/ausstellungen/58-spielraum-gibt-spi
 el-raum?layout=vcal
END:VEVENT
END:VCALENDAR
