BEGIN:VCALENDAR
VERSION:2.0
PRODID:-//seenema-bw.de//NONSGML kigkonsult.se iCalcreator 2.41.92//
CALSCALE:GREGORIAN
METHOD:PUBLISH
UID:66323262-3531-4263-a134-626533353532
X-WR-CALNAME:iCagenda
X-WR-CALDESC:Event Management Extension for Joomla!
X-WR-RELCALID:3E26604A-50F4-4449-8B3E-E4F4932D05B5
X-WR-TIMEZONE:Europe/Berlin
BEGIN:VTIMEZONE
TZID:Europe/Berlin
TZUNTIL:20230326T010000Z
BEGIN:STANDARD
TZNAME:CET
DTSTART:20201025T030000
TZOFFSETFROM:+0200
TZOFFSETTO:+0100
RDATE:20211031T030000
RDATE:20221030T030000
END:STANDARD
BEGIN:DAYLIGHT
TZNAME:CEST
DTSTART:20210328T020000
TZOFFSETFROM:+0100
TZOFFSETTO:+0200
RDATE:20220327T020000
END:DAYLIGHT
END:VTIMEZONE
BEGIN:VEVENT
UID:32623066-6234-4361-a135-316630646433
DTSTAMP:20260425T184431Z
CATEGORIES:Ausstellung
CLASS:PUBLIC
DESCRIPTION;ALTREP="CID:<FFFF__=0ABBE548DFE235B58f9e8a93d@coffeebean.com>":
 Eine Sommerausstellung von Piepe Hawran und Sigi Harder wird diesen Sonnta
 g \, 18. Juli\, um 11:00 Uhr im Kino seenema eröffnet. Die beiden in der R
 egion bekannten Künstler überraschen ihr Publikum mit neuen Werken. Der Ti
 tel der Ausstellung klingt gruselig und macht neugierig zugleich. \nPiepe 
 Hawran\, Allgemeinarzt aus Ravensburg\, arbeitet bildhauerisch und plastis
 ch mit Metall und Stein - dabei oft spielerisch\, gern auch provokativ. 'M
 edizynisch' sind auch die ausgestellten 'Zangengeburten' zu verstehen\, nä
 mlich die zu menschlichen Wesen umgeschmiedeten Kneif- Kombi- und Schmiede
 zangen. Weitere Metall- und Steinobjektejonglieren mal direkt\, mal assozi
 ativ - mit den vielfältigen Aspekten des Seins.\nSigi Harder\, Maler aus B
 odnegg\, stellt drei Werkgruppen vor: Erstens Farb-Flächen-Bilder auf zart
 em Seidenpapier \, kaschiert auf querformatigen Holzplatten\, die zusammen
  Verse eines Gedichts erahnen lassen. Zweitens grafisch bis zur Unbespielb
 arkeit veränderte Klaviernoten. Und drittens sind kleine Hausbilder\, Gesc
 hichten von Träumen\, Dramen und fliegenden Häusern - Hirngespinste eben -
  zu sehen.
DTSTART:20210717T220000Z
DTEND:20210918T220000Z
GEO:00;0
LOCATION:Werke von von Piepe Hawran und Sigi Harder
ORGANIZER:
SEQUENCE:1
SUMMARY:Zangengeburten und Hirngespinste
TRANSP:OPAQUE
URL:https://www.seenema-bw.de/index.php/ausstellungen/53-zangengeburten-und
 -hirngespinste?layout=vcal
END:VEVENT
END:VCALENDAR
