BEGIN:VCALENDAR
VERSION:2.0
PRODID:-//seenema-bw.de//NONSGML kigkonsult.se iCalcreator 2.41.92//
CALSCALE:GREGORIAN
METHOD:PUBLISH
UID:37336363-3235-4764-a563-393965383439
X-WR-CALNAME:iCagenda
X-WR-CALDESC:Event Management Extension for Joomla!
X-WR-RELCALID:3E26604A-50F4-4449-8B3E-E4F4932D05B5
X-WR-TIMEZONE:Europe/Berlin
BEGIN:VTIMEZONE
TZID:Europe/Berlin
TZUNTIL:20251026T010000Z
BEGIN:STANDARD
TZNAME:CET
DTSTART:20231029T030000
TZOFFSETFROM:+0200
TZOFFSETTO:+0100
RDATE:20241027T030000
END:STANDARD
BEGIN:DAYLIGHT
TZNAME:CEST
DTSTART:20230326T020000
TZOFFSETFROM:+0100
TZOFFSETTO:+0200
RDATE:20240331T020000
RDATE:20250330T020000
END:DAYLIGHT
END:VTIMEZONE
BEGIN:VEVENT
UID:64623538-6366-4536-b039-326238386236
DTSTAMP:20260425T184324Z
CATEGORIES:Ausstellung
CLASS:PUBLIC
DESCRIPTION:
DTSTART:20240316T230000Z
DTEND:20240504T230000Z
GEO:00;0
LOCATION:Zeichnungen von Mona Janke
ORGANIZER:
SEQUENCE:1
SUMMARY:Tanglen - reine HANDLust
TRANSP:OPAQUE
URL:https://www.seenema-bw.de/index.php/ausstellungen/44-tanglen-reine-hand
 lust?layout=vcal
END:VEVENT
END:VCALENDAR
