BEGIN:VCALENDAR
VERSION:2.0
PRODID:-//seenema-bw.de//NONSGML kigkonsult.se iCalcreator 2.41.92//
CALSCALE:GREGORIAN
METHOD:PUBLISH
UID:32373066-3239-4733-b436-303366633438
X-WR-CALNAME:iCagenda
X-WR-CALDESC:Event Management Extension for Joomla!
X-WR-RELCALID:3E26604A-50F4-4449-8B3E-E4F4932D05B5
X-WR-TIMEZONE:Europe/Berlin
BEGIN:VTIMEZONE
TZID:Europe/Berlin
TZUNTIL:20261025T010000Z
BEGIN:STANDARD
TZNAME:CET
DTSTART:20241027T030000
TZOFFSETFROM:+0200
TZOFFSETTO:+0100
RDATE:20251026T030000
END:STANDARD
BEGIN:DAYLIGHT
TZNAME:CEST
DTSTART:20240331T020000
TZOFFSETFROM:+0100
TZOFFSETTO:+0200
RDATE:20250330T020000
RDATE:20260329T020000
END:DAYLIGHT
END:VTIMEZONE
BEGIN:VEVENT
UID:35616164-6466-4361-b938-303033616661
DTSTAMP:20260425T170050Z
CATEGORIES:Ausstellung
CLASS:PUBLIC
DESCRIPTION:
DTSTART:20250315T230000Z
DTEND:20250517T230000Z
GEO:00;0
LOCATION:Werke in Acryl von Petra Kolossa
ORGANIZER:
SEQUENCE:1
SUMMARY:Impulse
TRANSP:OPAQUE
URL:https://www.seenema-bw.de/index.php/ausstellungen/38-impulse?layout=vca
 l
END:VEVENT
END:VCALENDAR
