BEGIN:VCALENDAR
VERSION:2.0
PRODID:-//seenema-bw.de//NONSGML kigkonsult.se iCalcreator 2.41.92//
CALSCALE:GREGORIAN
METHOD:PUBLISH
UID:33613831-3737-4365-a562-666565343835
X-WR-CALNAME:iCagenda
X-WR-CALDESC:Event Management Extension for Joomla!
X-WR-RELCALID:3E26604A-50F4-4449-8B3E-E4F4932D05B5
X-WR-TIMEZONE:Europe/Berlin
BEGIN:VTIMEZONE
TZID:Europe/Berlin
TZUNTIL:20270328T010000Z
BEGIN:STANDARD
TZNAME:CET
DTSTART:20241027T030000
TZOFFSETFROM:+0200
TZOFFSETTO:+0100
RDATE:20251026T030000
RDATE:20261025T030000
END:STANDARD
BEGIN:DAYLIGHT
TZNAME:CEST
DTSTART:20250330T020000
TZOFFSETFROM:+0100
TZOFFSETTO:+0200
RDATE:20260329T020000
END:DAYLIGHT
END:VTIMEZONE
BEGIN:VEVENT
UID:39623961-3736-4733-b961-333034666331
DTSTAMP:20260425T170946Z
CATEGORIES:Ausstellung
CLASS:PUBLIC
DESCRIPTION:
DTSTART:20250705T220000Z
DTEND:20250906T220000Z
GEO:00;0
LOCATION:Werke von Dorothee Schraube-Löffler und Johannes Schraube
ORGANIZER:
SEQUENCE:1
SUMMARY:Nicht vergänglich
TRANSP:OPAQUE
URL:https://www.seenema-bw.de/index.php/ausstellungen/36-nicht-vergaenglich
 ?layout=vcal
END:VEVENT
END:VCALENDAR
