BEGIN:VCALENDAR
VERSION:2.0
PRODID:-//seenema-bw.de//NONSGML kigkonsult.se iCalcreator 2.41.92//
CALSCALE:GREGORIAN
METHOD:PUBLISH
UID:62313235-3536-4563-a530-643664393062
X-WR-CALNAME:iCagenda
X-WR-CALDESC:Event Management Extension for Joomla!
X-WR-RELCALID:3E26604A-50F4-4449-8B3E-E4F4932D05B5
X-WR-TIMEZONE:Europe/Berlin
BEGIN:VTIMEZONE
TZID:Europe/Berlin
TZUNTIL:20271031T010000Z
BEGIN:STANDARD
TZNAME:CET
DTSTART:20251026T030000
TZOFFSETFROM:+0200
TZOFFSETTO:+0100
RDATE:20261025T030000
END:STANDARD
BEGIN:DAYLIGHT
TZNAME:CEST
DTSTART:20250330T020000
TZOFFSETFROM:+0100
TZOFFSETTO:+0200
RDATE:20260329T020000
RDATE:20270328T020000
END:DAYLIGHT
END:VTIMEZONE
BEGIN:VEVENT
UID:64323637-3931-4438-b663-313732373233
DTSTAMP:20260425T171212Z
CATEGORIES:Ausstellung
CLASS:PUBLIC
DESCRIPTION;ALTREP="CID:<FFFF__=0ABBE548DFE235B58f9e8a93d@coffeebean.com>":
 Jo Brösele\, gebürtiger Schwabe aus Schemmerberg\, Kreis Biberach\, ist ei
 n spezialisierter Generalist – er komponiert\, schreibt Lieder und Gedicht
 e\, macht Musik\, sorgt als Entertainer für Unterhaltung bei Groß und Klei
 n und ist gleichzeitig ein gefragter Schnell-Karikaturist\, sowie Wandillu
 strator: in ganz Deutschland unterwegs\, begeistert erseit Jahren mit sein
 en Projekten.\n\nIn „Zitate und Gesichter“ präsentiert Jo Brösele eine fas
 zinierende Sammlung mit von ihm auf Leinwand gemalten Bildern\, bei denen 
 berühmte Zitate in Gesichter verwandeltwerden. Die Ausstellung bietet eine
 n spannenden Blick auf kluge Köpfe – oft kennt man die Urheber nicht\, doc
 h die Bilder erzählen ihre eigene Geschichte. Prominente aus der Film- und
  Musikwelt\, sowie andere Berühmtheiten aus der Vergangenheit und Gegenwar
 t sind vertreten und verleihen der Sammlung Glanz.\nAm Sonntag\, 7. Dezemb
 er 2025\, findet die Vernissage um 11 Uhr im seenema Bad Waldsee\, Biberac
 her Straße 29\, statt und wird von Jo Brösele musikalisch begleitet. Im Ge
 spräch mit Marianne Jocham erfahren die Besucher mehr über den inspirieren
 den Künstler.\n 
DTSTART:20251206T230000Z
DTEND:20260228T230000Z
GEO:00;0
LOCATION:Werke von Jo Brösele
ORGANIZER:
SEQUENCE:1
SUMMARY:Zitate und ihre Gesichter
TRANSP:OPAQUE
URL:https://www.seenema-bw.de/index.php/ausstellungen/24-zitate-und-ihre-ge
 sichter?layout=vcal
END:VEVENT
END:VCALENDAR
